BEGIN:VCALENDAR
VERSION:2.0
PRODID:-//eventon.com NONSGML v1.0//EN
CALSCALE:GREGORIAN
METHOD:PUBLISH
BEGIN:VEVENT
UID:69e4ef49b604f
DTSTAMP:20260419T150545Z
DTSTART:20251113T163000Z
DTEND:20251113T180000Z
LOCATION:Olive Garden Italian Restaurant 4900 S Tamiami Trail\,  Sarasota\,  FL 34231
SUMMARY:LCBW Sarasota/Bradenton Chapter Luncheon - Olive Garden Italian Restaurant
DESCRIPTION:Grow Your Network: Join Our Monthly Business Women&#8217;s Meet
 ings! Connect with inspiring women in business every 2nd Thursday of the mo
 nth. At our meetings\,  you&#8217;ll: Expand your network: Connect with fel
 low entrepreneurs and professionals. Share your knowledge: Contribute your 
 expertise and insights. Gain valuable perspectives: Learn from other succes
 sful businesswomen.[..]\nhttps://lcbw.org/events/lcbw-sarasota-bradenton-ch
 apter-luncheon-olive-garden-italian-restaurant/
URL:https://lcbw.org/events/lcbw-sarasota-bradenton-chapter-luncheon-olive-garden-italian-restaurant/
END:VEVENT
END:VCALENDAR